BEGIN:VCALENDAR
VERSION:2.0
PRODID:-//Sabre//Sabre VObject 4.5.8//EN
CALSCALE:GREGORIAN
BEGIN:VEVENT
UID:sabre-vobject-177de84b-2d6c-4ed8-b0d1-66fa3600553a
DTSTAMP:20260426T022740Z
SUMMARY:Pflanzenbau - Alternative Produktionsverfahren
DESCRIPTION:https://app.neuburg.com/pflanzenbau-alternative-produktionsverf
 ahren_id16527
DTSTART;TZID=Europe/Berlin:20211014T090000
DTEND;TZID=Europe/Berlin:20211014T170000
LOCATION:Maschinenring\, Am Maschinenring 1\, 86633 Neuburg
END:VEVENT
END:VCALENDAR
