BEGIN:VCALENDAR
VERSION:2.0
PRODID:-//Sabre//Sabre VObject 4.5.8//EN
CALSCALE:GREGORIAN
BEGIN:VEVENT
UID:sabre-vobject-12561e32-abab-4c8f-9b56-eb0369ca914f
DTSTAMP:20260426T022655Z
SUMMARY:Das Land des Lächelns
DESCRIPTION:https://app.neuburg.com/das-land-des-laechelns_id16526
DTSTART;TZID=Europe/Berlin:20211004T200000
DURATION:PT30M
LOCATION:Stadttheater\, Residenzstraße 66\, 86633 Neuburg
END:VEVENT
END:VCALENDAR
