BEGIN:VCALENDAR
VERSION:2.0
PRODID:-//Sabre//Sabre VObject 4.5.8//EN
CALSCALE:GREGORIAN
BEGIN:VEVENT
UID:sabre-vobject-8fa87567-36d9-490c-903b-aafd51b2c274
DTSTAMP:20260426T022740Z
SUMMARY:Marie Curie
DESCRIPTION:https://app.neuburg.com/marie-curie_id16525
DTSTART;TZID=Europe/Berlin:20211015T200000
DTEND;TZID=Europe/Berlin:20211015T220000
LOCATION:Stadttheater\, Residenzstraße 66\, 86633 Neuburg
END:VEVENT
END:VCALENDAR
