BEGIN:VCALENDAR
VERSION:2.0
PRODID:-//Sabre//Sabre VObject 4.5.8//EN
CALSCALE:GREGORIAN
BEGIN:VEVENT
UID:sabre-vobject-a3a815df-1067-4cb9-89dc-d48dae651876
DTSTAMP:20260425T192158Z
SUMMARY:Flohmarkt am Südpark Neuburg
DESCRIPTION:https://app.neuburg.com/flohmarkt-am-suedpark-neuburg_id16524
DTSTART;TZID=Europe/Berlin:20210912T070000
DTEND;TZID=Europe/Berlin:20210912T140000
LOCATION:Südpark\, Südpark\, 86633 Neuburg
END:VEVENT
END:VCALENDAR
