BEGIN:VCALENDAR
VERSION:2.0
PRODID:-//Sabre//Sabre VObject 4.5.8//EN
CALSCALE:GREGORIAN
BEGIN:VEVENT
UID:sabre-vobject-32f0b420-bd43-493b-a5b6-3d2e7ef27491
DTSTAMP:20260426T004145Z
SUMMARY:A-Zu-Bi! - Regionale Ausbildungsmesse
DESCRIPTION:https://app.neuburg.com/a-zu-bi-regionale-ausbildungsmesse_id16
 520
DTSTART;TZID=Europe/Berlin:20211009T090000
DTEND;TZID=Europe/Berlin:20211009T140000
LOCATION:Parkhalle\, Ludwig-Thoma-Platz 1\, 86633 Neuburg
END:VEVENT
END:VCALENDAR
