BEGIN:VCALENDAR
VERSION:2.0
PRODID:-//Sabre//Sabre VObject 4.5.8//EN
CALSCALE:GREGORIAN
BEGIN:VEVENT
UID:sabre-vobject-19530577-085c-4301-a36e-aa450a342817
DTSTAMP:20260426T022656Z
SUMMARY:Vernissage zur Jahresausstellung des Kunstkreises Neuburg
DESCRIPTION:https://app.neuburg.com/vernissage-zur-jahresausstellung-des-ku
 nstkreises-neuburg_id16519
DTSTART;TZID=Europe/Berlin:20211008T190000
DTEND;TZID=Europe/Berlin:20211008T203000
LOCATION:Karlsplatz\, Karlsplatz\, 86633 Neuburg
END:VEVENT
END:VCALENDAR
