BEGIN:VCALENDAR
VERSION:2.0
PRODID:-//Sabre//Sabre VObject 4.5.8//EN
CALSCALE:GREGORIAN
BEGIN:VEVENT
UID:sabre-vobject-da0120a7-7933-4324-babc-190573696922
DTSTAMP:20260426T041707Z
SUMMARY:Ab in die Sommerfrische
DESCRIPTION:https://app.neuburg.com/ab-in-die-sommerfrische_id16518
DTSTART;TZID=Europe/Berlin:20211019T200000
DTEND;TZID=Europe/Berlin:20211020T200000
LOCATION:Stadttheater\, Residenzstraße 66\, 86633 Neuburg
END:VEVENT
END:VCALENDAR
