BEGIN:VCALENDAR
VERSION:2.0
PRODID:-//Sabre//Sabre VObject 4.5.8//EN
CALSCALE:GREGORIAN
BEGIN:VEVENT
UID:sabre-vobject-8a3cb513-0218-4c96-a769-d2def109ed9f
DTSTAMP:20260426T041708Z
SUMMARY:Business Golf Day mit PensionSecur
DESCRIPTION:https://app.neuburg.com/business-golf-day-mit-pensionsecur_id16
 517
DTSTART;TZID=Europe/Berlin:20211006T130000
DTEND;TZID=Europe/Berlin:20211006T220000
LOCATION:Wittelsbacher Golfclub\, Rohrenfeld 102\, 86633 Neuburg an der Don
 au
END:VEVENT
END:VCALENDAR
