BEGIN:VCALENDAR
VERSION:2.0
PRODID:-//Sabre//Sabre VObject 4.5.8//EN
CALSCALE:GREGORIAN
BEGIN:VEVENT
UID:sabre-vobject-3bcb6dab-8af8-4647-b9bd-b991c7d8aa9e
DTSTAMP:20260426T004246Z
SUMMARY:Flohmarkt am Südpark Neuburg
DESCRIPTION:https://app.neuburg.com/flohmarkt-am-suedpark-neuburg_id16514
DTSTART;TZID=Europe/Berlin:20211003T070000
DTEND;TZID=Europe/Berlin:20211003T140000
LOCATION:Südpark\, Südpark\, 86633 Neuburg
END:VEVENT
END:VCALENDAR
