BEGIN:VCALENDAR
VERSION:2.0
PRODID:-//Sabre//Sabre VObject 4.5.8//EN
CALSCALE:GREGORIAN
BEGIN:VEVENT
UID:sabre-vobject-f4d31bce-7c58-42db-a081-bee1b33c000c
DTSTAMP:20260426T022654Z
SUMMARY:Flohmarkt am Südpark Neuburg
DESCRIPTION:https://app.neuburg.com/flohmarkt-am-suedpark-neuburg_id16513
DTSTART;TZID=Europe/Berlin:20211017T070000
DTEND;TZID=Europe/Berlin:20211017T140000
LOCATION:Südpark\, Südpark\, 86633 Neuburg
END:VEVENT
END:VCALENDAR
