BEGIN:VCALENDAR
VERSION:2.0
PRODID:-//Sabre//Sabre VObject 4.5.8//EN
CALSCALE:GREGORIAN
BEGIN:VEVENT
UID:sabre-vobject-074f618a-6281-49df-8cb9-3aecb1641e3e
DTSTAMP:20260426T004247Z
SUMMARY:Wort-Klang-Bild 2021
DESCRIPTION:https://app.neuburg.com/wort-klang-bild-2021_id16512
DTSTART;TZID=Europe/Berlin:20211016T180000
DTEND;TZID=Europe/Berlin:20211016T230000
LOCATION:Altstadt\, Altstadt\, 86633 Neuburg
END:VEVENT
END:VCALENDAR
