BEGIN:VCALENDAR
VERSION:2.0
PRODID:-//Sabre//Sabre VObject 4.5.8//EN
CALSCALE:GREGORIAN
BEGIN:VEVENT
UID:sabre-vobject-16215d46-db7b-44ad-87ac-9eb28df1f09e
DTSTAMP:20260426T005143Z
SUMMARY:Herbstdult auf dem Schrannenplatz
DESCRIPTION:https://app.neuburg.com/herbstdult-auf-dem-schrannenplatz_id165
 07
DTSTART;TZID=Europe/Berlin:20211007T110000
DTEND;TZID=Europe/Berlin:20211010T180000
LOCATION:Schrannenplatz\, Schrannenplatz\, 86633 Neuburg
END:VEVENT
END:VCALENDAR
