BEGIN:VCALENDAR
VERSION:2.0
PRODID:-//Sabre//Sabre VObject 4.5.8//EN
CALSCALE:GREGORIAN
BEGIN:VEVENT
UID:sabre-vobject-a47f2aa7-2058-4d89-94d4-5b1d61a58695
DTSTAMP:20260425T155836Z
SUMMARY:Großausstellung der "Grand Dame" Ute Patel-Mißfeldt
DESCRIPTION:https://app.neuburg.com/grossausstellung-der-grand-dame-ute-pat
 el-missfeldt_id16458
DTSTART;TZID=Europe/Berlin:20210910T000000
DTEND;TZID=Europe/Berlin:20211003T000000
LOCATION:Städtische Galerie im Rathausfletz\, Residenzstr. A 66\, 86633 Ne
 uburg
END:VEVENT
END:VCALENDAR
