BEGIN:VCALENDAR
VERSION:2.0
PRODID:-//Sabre//Sabre VObject 4.5.8//EN
CALSCALE:GREGORIAN
BEGIN:VEVENT
UID:sabre-vobject-001270de-70fb-45eb-a3e7-b1fb79524281
DTSTAMP:20260425T142311Z
SUMMARY:Palim Palimpro - IMPROSHOW
DESCRIPTION:https://app.neuburg.com/palim-palimpro-improshow_id16457
DTSTART;TZID=Europe/Berlin:20210903T000000
DTEND;TZID=Europe/Berlin:20210904T000000
LOCATION:Garten Stadtmuseum\, Amalienstraße 19\, 86633 Neuburg
END:VEVENT
END:VCALENDAR
