BEGIN:VCALENDAR
VERSION:2.0
PRODID:-//Sabre//Sabre VObject 4.5.8//EN
CALSCALE:GREGORIAN
BEGIN:VEVENT
UID:sabre-vobject-abf0fc51-7669-472b-95e4-b5b9101742b9
DTSTAMP:20260425T225308Z
SUMMARY:Neuburg leuchtet
DESCRIPTION:https://app.neuburg.com/neuburg-leuchtet_id16456
DTSTART;TZID=Europe/Berlin:20210924T000000
DURATION:PT30M
LOCATION:Neuburger Innenstadt\, Innenstadt\, 86633 Neuburg
END:VEVENT
END:VCALENDAR
