BEGIN:VCALENDAR
VERSION:2.0
PRODID:-//Sabre//Sabre VObject 4.5.8//EN
CALSCALE:GREGORIAN
BEGIN:VEVENT
UID:sabre-vobject-8f40a398-171d-4e29-a0ca-689b7b0762f3
DTSTAMP:20260425T123827Z
SUMMARY:Blutspende in Neuburg-Donau
DESCRIPTION:https://app.neuburg.com/blutspende-in-neuburg-donau_id16453
DTSTART;TZID=Europe/Berlin:20210901T160000
DTEND;TZID=Europe/Berlin:20210901T200000
LOCATION:Grundschule Ost\, Berliner Str. 37\, 86633 Neuburg
END:VEVENT
END:VCALENDAR
