BEGIN:VCALENDAR
VERSION:2.0
PRODID:-//Sabre//Sabre VObject 4.5.8//EN
CALSCALE:GREGORIAN
BEGIN:VEVENT
UID:sabre-vobject-a2c844bd-44cf-40e8-b143-aa0f1f198414
DTSTAMP:20260425T030452Z
SUMMARY:Führung im Stadtmuseum
DESCRIPTION:https://app.neuburg.com/fuehrung-im-stadtmuseum_id16168
DTSTART;TZID=Europe/Berlin:20210801T110000
DURATION:PT30M
LOCATION:Stadtmuseum Neuburg (Weveldhaus)\, Amalienstraße A 19\, 86633 Neu
 burg a. d. Donau
END:VEVENT
END:VCALENDAR
