BEGIN:VCALENDAR
VERSION:2.0
PRODID:-//Sabre//Sabre VObject 4.5.8//EN
CALSCALE:GREGORIAN
BEGIN:VEVENT
UID:sabre-vobject-cca07b22-4db6-4776-9c8b-69d1665b60c4
DTSTAMP:20260425T104715Z
SUMMARY:Flohmarkt am Südpark Neuburg
DESCRIPTION:https://app.neuburg.com/flohmarkt-am-suedpark-neuburg_id16135
DTSTART;TZID=Europe/Berlin:20210808T070000
DTEND;TZID=Europe/Berlin:20210808T140000
LOCATION:Südpark\, Südpark\, 86633 Neuburg
END:VEVENT
END:VCALENDAR
