BEGIN:VCALENDAR
VERSION:2.0
PRODID:-//Sabre//Sabre VObject 4.5.8//EN
CALSCALE:GREGORIAN
BEGIN:VEVENT
UID:sabre-vobject-24ebd7ae-c888-4d52-8a8e-aa4aa8d2e3fc
DTSTAMP:20260425T011556Z
SUMMARY:43. Neuburger Sommerakademie
DESCRIPTION:https://app.neuburg.com/43-neuburger-sommerakademie_id16134
DTSTART;TZID=Europe/Berlin:20210801T000000
DTEND;TZID=Europe/Berlin:20210815T000000
LOCATION:Neuburger Innenstadt\, Innenstadt\, 86633 Neuburg
END:VEVENT
END:VCALENDAR
