BEGIN:VCALENDAR
VERSION:2.0
PRODID:-//Sabre//Sabre VObject 4.5.8//EN
CALSCALE:GREGORIAN
BEGIN:VEVENT
UID:sabre-vobject-df21ab29-19a4-4d6f-8a0e-2008f8e4aa67
DTSTAMP:20260424T163314Z
SUMMARY:Neueröffnung Tanzcafé Hertlein
DESCRIPTION:https://app.neuburg.com/neueroeffnung-tanzcafe-hertlein_id15195
DTSTART;TZID=Europe/Berlin:20210701T200000
DURATION:PT30M
LOCATION:Tanzcafe Hertlein\, Oskar-Wittmann-Straße 14\, 86633 Neuburg an d
 er Donau
END:VEVENT
END:VCALENDAR
