BEGIN:VCALENDAR
VERSION:2.0
PRODID:-//Sabre//Sabre VObject 4.5.8//EN
CALSCALE:GREGORIAN
BEGIN:VEVENT
UID:sabre-vobject-54c4aadb-4701-45b8-9d86-5fd89d047726
DTSTAMP:20260424T233131Z
SUMMARY:BAROCK bis ROCK 2021
DESCRIPTION:https://app.neuburg.com/barock-bis-rock-2021_id15191
DTSTART;TZID=Europe/Berlin:20210723T193000
DTEND;TZID=Europe/Berlin:20210724T000000
LOCATION:Garten Stadtmuseum\, Amalienstraße 19\, 86633 Neuburg
END:VEVENT
END:VCALENDAR
