BEGIN:VCALENDAR
VERSION:2.0
PRODID:-//Sabre//Sabre VObject 4.5.8//EN
CALSCALE:GREGORIAN
BEGIN:VEVENT
UID:sabre-vobject-b20a8408-f10c-4fc8-a87c-3fb36696d1f1
DTSTAMP:20260424T145001Z
SUMMARY:Tierisches Nachtleben im Auwald - Bayern-Tour-Natur-Führung
DESCRIPTION:https://app.neuburg.com/tierisches-nachtleben-im-auwald-bayern-
 tour-natur-fuehrung_id15175
DTSTART;TZID=Europe/Berlin:20210625T210000
DTEND;TZID=Europe/Berlin:20210625T230000
LOCATION:Donau-Ruderclub\, Oskar-Wittmann-Straße 5\, 86633 Neuburg
END:VEVENT
END:VCALENDAR
