BEGIN:VCALENDAR
VERSION:2.0
PRODID:-//Sabre//Sabre VObject 4.5.8//EN
CALSCALE:GREGORIAN
BEGIN:VEVENT
UID:sabre-vobject-5eb29aee-f5a0-4182-8555-d873f5982d7e
DTSTAMP:20260424T094056Z
SUMMARY:Zweite Wanderung zum Thema „Heimische Orchideen\, bunte Exoten im
  Auwald“
DESCRIPTION:https://app.neuburg.com/zweite-wanderung-zum-thema-heimische-or
 chideen-bunte-exoten-im-auwald_id14674
DTSTART;TZID=Europe/Berlin:20210620T140000
DTEND;TZID=Europe/Berlin:20210620T160000
LOCATION:Bahnhof Weichering\, Bahnhofstraße 3\, 86706 Weichering
END:VEVENT
END:VCALENDAR
