BEGIN:VCALENDAR
VERSION:2.0
PRODID:-//Sabre//Sabre VObject 4.5.8//EN
CALSCALE:GREGORIAN
BEGIN:VEVENT
UID:sabre-vobject-2ed990db-83a7-43b9-ada8-178f4c23c766
DTSTAMP:20260424T060228Z
SUMMARY:Heimische Orchideen\, bunte Exoten
DESCRIPTION:https://app.neuburg.com/heimische-orchideen-bunte-exoten_id1462
 4
DTSTART;TZID=Europe/Berlin:20210606T140000
DURATION:PT30M
LOCATION:Auwald
END:VEVENT
END:VCALENDAR
