BEGIN:VCALENDAR
VERSION:2.0
PRODID:-//Sabre//Sabre VObject 4.5.8//EN
CALSCALE:GREGORIAN
BEGIN:VEVENT
UID:sabre-vobject-d29600b8-999a-4adc-8a68-858ab1341d02
DTSTAMP:20260424T195607Z
SUMMARY:Blutspende in Neuburg-Donau
DESCRIPTION:https://app.neuburg.com/blutspende-in-neuburg-donau_id14462
DTSTART;TZID=Europe/Berlin:20210707T160000
DTEND;TZID=Europe/Berlin:20210707T200000
LOCATION:Grundschule Ost\, Berliner Str. 37\, 86633 Neuburg
END:VEVENT
END:VCALENDAR
