BEGIN:VCALENDAR
VERSION:2.0
PRODID:-//Sabre//Sabre VObject 4.5.8//EN
CALSCALE:GREGORIAN
BEGIN:VEVENT
UID:sabre-vobject-a7dceb1e-549a-42e3-929d-b538de36868a
DTSTAMP:20260424T041605Z
SUMMARY:Blutspende in Neuburg-Donau
DESCRIPTION:https://app.neuburg.com/blutspende-in-neuburg-donau_id14460
DTSTART;TZID=Europe/Berlin:20210602T160000
DTEND;TZID=Europe/Berlin:20210602T200000
LOCATION:Grundschule Ost\, Berliner Str. 37\, 86633 Neuburg
END:VEVENT
END:VCALENDAR
