BEGIN:VCALENDAR
VERSION:2.0
PRODID:-//Sabre//Sabre VObject 4.5.8//EN
CALSCALE:GREGORIAN
BEGIN:VEVENT
UID:sabre-vobject-6bef05e8-63d7-4166-b7ee-588a7702141e
DTSTAMP:20260423T204832Z
SUMMARY:"Welten-Sch(m)erz"
DESCRIPTION:https://app.neuburg.com/welten-sch-m-erz_id14458
DTSTART;TZID=Europe/Berlin:20210513T110000
DTEND;TZID=Europe/Berlin:20210606T190000
LOCATION:Städtische Galerie im Rathausfletz\, Residenzstr. A 66\, 86633 Ne
 uburg
END:VEVENT
END:VCALENDAR
