BEGIN:VCALENDAR
VERSION:2.0
PRODID:-//Sabre//Sabre VObject 4.5.8//EN
CALSCALE:GREGORIAN
BEGIN:VEVENT
UID:sabre-vobject-aa73adc2-e90b-4a84-9f05-180db6a5dd79
DTSTAMP:20260424T130614Z
SUMMARY:Vortrag Heilfasten nach Sebastian Kneipp
DESCRIPTION:https://app.neuburg.com/vortrag-heilfasten-nach-sebastian-kneip
 p_id14338
DTSTART;TZID=Europe/Berlin:20210625T180000
DURATION:PT30M
LOCATION:Kräutergarten Neuburg
END:VEVENT
END:VCALENDAR
