BEGIN:VCALENDAR
VERSION:2.0
PRODID:-//Sabre//Sabre VObject 4.5.8//EN
CALSCALE:GREGORIAN
BEGIN:VEVENT
UID:sabre-vobject-8d4676a7-a50e-4b3f-8744-a912028a540e
DTSTAMP:20260424T113214Z
SUMMARY:Nordic Walking von der Staustufe Bittenbrunn zum Kneippbecken am Fi
 nkenstein
DESCRIPTION:https://app.neuburg.com/nordic-walking-von-der-staustufe-bitten
 brunn-zum-kneippbecken-am-finkenstein_id14337
DTSTART;TZID=Europe/Berlin:20210621T180000
DURATION:PT30M
LOCATION:Kneippbecken am Finkenstein
END:VEVENT
END:VCALENDAR
