BEGIN:VCALENDAR
VERSION:2.0
PRODID:-//Sabre//Sabre VObject 4.5.8//EN
CALSCALE:GREGORIAN
BEGIN:VEVENT
UID:sabre-vobject-27ebf602-8376-49b0-98e7-4629edf17f20
DTSTAMP:20260424T022709Z
SUMMARY:Führung: Kneippbad Neuburg
DESCRIPTION:https://app.neuburg.com/fuehrung-kneippbad-neuburg_id14334
DTSTART;TZID=Europe/Berlin:20210522T140000
DURATION:PT30M
LOCATION:Neuburger Kräutergarten
END:VEVENT
END:VCALENDAR
