BEGIN:VCALENDAR
VERSION:2.0
PRODID:-//Sabre//Sabre VObject 4.5.8//EN
CALSCALE:GREGORIAN
BEGIN:VEVENT
UID:sabre-vobject-4bc9d80d-2957-49b7-812d-e55fdb018994
DTSTAMP:20260423T223902Z
SUMMARY:Einweihung des Wassertretbeckens am Finkenstein
DESCRIPTION:https://app.neuburg.com/einweihung-des-wassertretbeckens-am-fin
 kenstein_id14333
DTSTART;TZID=Europe/Berlin:20210517T153000
DURATION:PT30M
LOCATION:Wassertretbecken am Finkenstein
END:VEVENT
END:VCALENDAR
