BEGIN:VCALENDAR
VERSION:2.0
PRODID:-//Sabre//Sabre VObject 4.5.8//EN
CALSCALE:GREGORIAN
BEGIN:VEVENT
UID:sabre-vobject-2a3e7c99-f7ca-437e-b33c-49f2976224b9
DTSTAMP:20260423T185110Z
SUMMARY:Blutspende in Neuburg-Donau
DESCRIPTION:https://app.neuburg.com/blutspende-in-neuburg-donau_id14297
DTSTART;TZID=Europe/Berlin:20210505T160000
DURATION:PT30M
LOCATION:Grundschule Ost
END:VEVENT
END:VCALENDAR
