BEGIN:VCALENDAR
VERSION:2.0
PRODID:-//Sabre//Sabre VObject 4.5.8//EN
CALSCALE:GREGORIAN
BEGIN:VEVENT
UID:sabre-vobject-060abb28-6e65-4347-96df-573dece6d18e
DTSTAMP:20260423T171331Z
SUMMARY:Zeyt Zeichen II
DESCRIPTION:https://app.neuburg.com/zeyt-zeichen-ii_id14266
DTSTART;TZID=Europe/Berlin:20210418T110000
DTEND;TZID=Europe/Berlin:20210524T190000
LOCATION:Städtische Galerie im Rathausfletz\, Residenzstr. A 66\, 86633 Ne
 uburg
END:VEVENT
END:VCALENDAR
