BEGIN:VCALENDAR
VERSION:2.0
PRODID:-//Sabre//Sabre VObject 4.5.8//EN
CALSCALE:GREGORIAN
BEGIN:VEVENT
UID:sabre-vobject-c91b7492-957d-496c-8384-8a2554f6bb3e
DTSTAMP:20260426T004246Z
SUMMARY:7. Internationale Jagd- und Schützentage
DESCRIPTION:https://app.neuburg.com/7-internationale-jagd-und-schuetzentage
 _id14164
DTSTART;TZID=Europe/Berlin:20211008T093000
DTEND;TZID=Europe/Berlin:20211010T180000
LOCATION:Schloss Grünau\, Schloss Grünau\, 86633 Neuburg
END:VEVENT
END:VCALENDAR
