BEGIN:VCALENDAR
VERSION:2.0
PRODID:-//Sabre//Sabre VObject 4.5.8//EN
CALSCALE:GREGORIAN
BEGIN:VEVENT
UID:sabre-vobject-1c202e38-2264-42bc-be95-4d016b0c7093
DTSTAMP:20260423T152712Z
SUMMARY:Sächsisch für Anfänger
DESCRIPTION:https://app.neuburg.com/saechsisch-fuer-anfaenger_id14163
DTSTART;TZID=Europe/Berlin:20210413T200000
DTEND;TZID=Europe/Berlin:20210414T220000
LOCATION:Stadttheater Neuburg\, Ottheinrichplatz\, 86633 Neuburg an der Don
 au
END:VEVENT
END:VCALENDAR
