BEGIN:VCALENDAR
VERSION:2.0
PRODID:-//Sabre//Sabre VObject 4.5.8//EN
CALSCALE:GREGORIAN
BEGIN:VEVENT
UID:sabre-vobject-04e11329-e52b-4f67-a67d-ca77f7f67519
DTSTAMP:20260424T003708Z
SUMMARY:Ein Kuss
DESCRIPTION:https://app.neuburg.com/ein-kuss_id14162
DTSTART;TZID=Europe/Berlin:20210519T200000
DURATION:PT30M
LOCATION:Stadttheater Neuburg\, Ottheinrichplatz\, 86633 Neuburg an der Don
 au
END:VEVENT
END:VCALENDAR
