BEGIN:VCALENDAR
VERSION:2.0
PRODID:-//Sabre//Sabre VObject 4.5.8//EN
CALSCALE:GREGORIAN
BEGIN:VEVENT
UID:sabre-vobject-ed517837-e3b9-4fc7-9e3a-1cc8d7c5173e
DTSTAMP:20260423T132800Z
SUMMARY:Ladies Night
DESCRIPTION:https://app.neuburg.com/ladies-night_id14149
DTSTART;TZID=Europe/Berlin:20210408T183000
DURATION:PT30M
LOCATION:Weinparadiso\, Oswaldplatz 2\, 86633  Neuburg an der Donau
END:VEVENT
END:VCALENDAR
