BEGIN:VCALENDAR
VERSION:2.0
PRODID:-//Sabre//Sabre VObject 4.5.8//EN
CALSCALE:GREGORIAN
BEGIN:VEVENT
UID:sabre-vobject-5b0cb848-4ee8-46e3-b989-65c85316c482
DTSTAMP:20260423T080203Z
SUMMARY:RAINER BÖHM STANDARD TRIO
DESCRIPTION:https://app.neuburg.com/rainer-boehm-standard-trio_id14129
DTSTART;TZID=Europe/Berlin:20210326T200000
DURATION:PT30M
LOCATION:Birdland Jazz Club Neuburg
END:VEVENT
END:VCALENDAR
