BEGIN:VCALENDAR
VERSION:2.0
PRODID:-//Sabre//Sabre VObject 4.5.8//EN
CALSCALE:GREGORIAN
BEGIN:VEVENT
UID:sabre-vobject-bdaf4fc1-aec1-4eab-b947-90f2423225ac
DTSTAMP:20260423T060243Z
SUMMARY:Hülsmann – Wogram – Dell
DESCRIPTION:https://app.neuburg.com/huelsmann-wogram-dell_id14128
DTSTART;TZID=Europe/Berlin:20210325T200000
DURATION:PT30M
LOCATION:Birdland Jazz Club Neuburg
END:VEVENT
END:VCALENDAR
