BEGIN:VCALENDAR
VERSION:2.0
PRODID:-//Sabre//Sabre VObject 4.5.8//EN
CALSCALE:GREGORIAN
BEGIN:VEVENT
UID:sabre-vobject-44aa35d4-e4a5-411a-8f1d-bb1f77c0da56
DTSTAMP:20260423T113955Z
SUMMARY:Blutspende in Neuburg-Donau
DESCRIPTION:https://app.neuburg.com/blutspende-in-neuburg-donau_id14126
DTSTART;TZID=Europe/Berlin:20210407T160000
DURATION:PT30M
LOCATION:Grundschule Ost
END:VEVENT
END:VCALENDAR
