BEGIN:VCALENDAR
VERSION:2.0
PRODID:-//Sabre//Sabre VObject 4.5.8//EN
CALSCALE:GREGORIAN
BEGIN:VEVENT
UID:sabre-vobject-ac3a7973-9b35-4076-82ad-f104976a1f57
DTSTAMP:20260425T210902Z
SUMMARY:Mut zum Hut
DESCRIPTION:https://app.neuburg.com/mut-zum-hut_id14124
DTSTART;TZID=Europe/Berlin:20210924T000000
DTEND;TZID=Europe/Berlin:20210926T000000
LOCATION:Neues Schloss Ingolstadt
END:VEVENT
END:VCALENDAR
