BEGIN:VCALENDAR
VERSION:2.0
PRODID:-//Sabre//Sabre VObject 4.5.8//EN
CALSCALE:GREGORIAN
BEGIN:VEVENT
UID:sabre-vobject-dd1e965c-5b41-4b33-aedb-bec9f12d9695
DTSTAMP:20260424T074716Z
SUMMARY:Wanderung zu Eisvogel und Co.
DESCRIPTION:https://app.neuburg.com/wanderung-zu-eisvogel-und-co_id14119
DTSTART;TZID=Europe/Berlin:20210613T140000
DTEND;TZID=Europe/Berlin:20210613T170000
LOCATION:Schloss Grünau\, Schloss Grünau\, 86633 Neuburg
END:VEVENT
END:VCALENDAR
