BEGIN:VCALENDAR
VERSION:2.0
PRODID:-//Sabre//Sabre VObject 4.5.8//EN
CALSCALE:GREGORIAN
BEGIN:VEVENT
UID:sabre-vobject-880795db-8c02-49b8-b392-c1b31dd19c84
DTSTAMP:20260423T001350Z
SUMMARY:Rotary Club aktiv zum Weltfrauentag
DESCRIPTION:https://app.neuburg.com/rotary-club-aktiv-zum-weltfrauentag_id1
 3895
DTSTART;TZID=Europe/Berlin:20210128T193000
DURATION:PT30M
END:VEVENT
END:VCALENDAR
